BEGIN:VCALENDAR
VERSION:2.0
PRODID:-//Military and Veterans Affairs - ECPv6.15.20//NONSGML v1.0//EN
CALSCALE:GREGORIAN
METHOD:PUBLISH
X-WR-CALNAME:Military and Veterans Affairs
X-ORIGINAL-URL:https://mva.lacounty.gov
X-WR-CALDESC:Events for Military and Veterans Affairs
REFRESH-INTERVAL;VALUE=DURATION:PT1H
X-Robots-Tag:noindex
X-PUBLISHED-TTL:PT1H
BEGIN:VTIMEZONE
TZID:America/Los_Angeles
BEGIN:DAYLIGHT
TZOFFSETFROM:-0800
TZOFFSETTO:-0700
TZNAME:PDT
DTSTART:20250309T100000
END:DAYLIGHT
BEGIN:STANDARD
TZOFFSETFROM:-0700
TZOFFSETTO:-0800
TZNAME:PST
DTSTART:20251102T090000
END:STANDARD
BEGIN:DAYLIGHT
TZOFFSETFROM:-0800
TZOFFSETTO:-0700
TZNAME:PDT
DTSTART:20260308T100000
END:DAYLIGHT
BEGIN:STANDARD
TZOFFSETFROM:-0700
TZOFFSETTO:-0800
TZNAME:PST
DTSTART:20261101T090000
END:STANDARD
BEGIN:DAYLIGHT
TZOFFSETFROM:-0800
TZOFFSETTO:-0700
TZNAME:PDT
DTSTART:20270314T100000
END:DAYLIGHT
BEGIN:STANDARD
TZOFFSETFROM:-0700
TZOFFSETTO:-0800
TZNAME:PST
DTSTART:20271107T090000
END:STANDARD
END:VTIMEZONE
BEGIN:VEVENT
DTSTART;VALUE=DATE:20260423
DTEND;VALUE=DATE:20260424
DTSTAMP:20260421T042756
CREATED:20260413T151145Z
LAST-MODIFIED:20260413T151145Z
UID:10000645-1776902400-1776988799@mva.lacounty.gov
SUMMARY:Office Closure - Staff Training
DESCRIPTION:To better serve our veteran community\, staff from the Los Angeles County Department of Military & Veterans Affairs (MVA) and the Veteran Peer Access Network (VPAN) will be participating in a full-day training on Thursday\, April 23rd. \nDuring this time\, support remains available:📧 Email us anytime at intake@mva.lacounty.gov📝 Submit an inquiry online at mva.lacounty.gov/contact-us☎️ For urgent mental health support\, call the Veterans Crisis Line at 988 (Press 1) — available 24/7 \nWe will resume regular office hours on Friday\, April 24th. \nThank you for your understanding as we continue strengthening the services we provide to veterans and their families.
URL:https://mva.lacounty.gov/event/office-closure-may-2026-staff-training/
CATEGORIES:Closures
ATTACH;FMTTYPE=image/jpeg:https://mva.lacounty.gov/wp-content/uploads/2026/03/2026-JAN-Staff-Training-Day-Office-Closure-Xfb.jpg
END:VEVENT
END:VCALENDAR