BEGIN:VCALENDAR
VERSION:2.0
PRODID:-//Military and Veterans Affairs - ECPv6.15.20//NONSGML v1.0//EN
CALSCALE:GREGORIAN
METHOD:PUBLISH
X-WR-CALNAME:Military and Veterans Affairs
X-ORIGINAL-URL:https://mva.lacounty.gov
X-WR-CALDESC:Events for Military and Veterans Affairs
REFRESH-INTERVAL;VALUE=DURATION:PT1H
X-Robots-Tag:noindex
X-PUBLISHED-TTL:PT1H
BEGIN:VTIMEZONE
TZID:America/Los_Angeles
BEGIN:DAYLIGHT
TZOFFSETFROM:-0800
TZOFFSETTO:-0700
TZNAME:PDT
DTSTART:20250309T100000
END:DAYLIGHT
BEGIN:STANDARD
TZOFFSETFROM:-0700
TZOFFSETTO:-0800
TZNAME:PST
DTSTART:20251102T090000
END:STANDARD
BEGIN:DAYLIGHT
TZOFFSETFROM:-0800
TZOFFSETTO:-0700
TZNAME:PDT
DTSTART:20260308T100000
END:DAYLIGHT
BEGIN:STANDARD
TZOFFSETFROM:-0700
TZOFFSETTO:-0800
TZNAME:PST
DTSTART:20261101T090000
END:STANDARD
BEGIN:DAYLIGHT
TZOFFSETFROM:-0800
TZOFFSETTO:-0700
TZNAME:PDT
DTSTART:20270314T100000
END:DAYLIGHT
BEGIN:STANDARD
TZOFFSETFROM:-0700
TZOFFSETTO:-0800
TZNAME:PST
DTSTART:20271107T090000
END:STANDARD
END:VTIMEZONE
BEGIN:VEVENT
DTSTART;TZID=America/Los_Angeles:20260302T110000
DTEND;TZID=America/Los_Angeles:20260302T130000
DTSTAMP:20260423T061841
CREATED:20260206T222338Z
LAST-MODIFIED:20260206T222338Z
UID:10000088-1772449200-1772456400@mva.lacounty.gov
SUMMARY:Sepulveda VA Bunker Social
DESCRIPTION:📅 Mondays🕚 11:00 AM – 1:00 PM📍 Sepulveda VA Bunker Social – Located on the Sepulveda VA Campus near the intersection of Kinzie St and George S. Patton Jr Dr \nJoin us for coffee\, conversation\, and connections. The Bunker Social is a weekly\, drop-in gathering where veterans\, family members\, and caregivers can meet peers\, get wayfinding to services\, and plug into a supportive community. \nWhat to Expect \n\nFriendly\, welcoming space to connect with other veterans\nLight-touch resource navigation and community referrals\nFamily-friendly; all eras of service welcome\nFree to attend; no RSVP required
URL:https://mva.lacounty.gov/event/sepulveda-va-bunker-social-3/2026-03-02/
LOCATION:Sepulveda VA Medical Center\, 16111 Plummer St\, North Hills\, CA\, 91343\, United States
ATTACH;FMTTYPE=image/jpeg:https://mva.lacounty.gov/wp-content/uploads/2025/08/Bunker-Social-Flyer-scaled-e1756412468614.jpg
GEO:34.24744°;-118.48417°
X-APPLE-STRUCTURED-LOCATION;VALUE=URI;X-ADDRESS=Sepulveda VA Medical Center 16111 Plummer St North Hills CA 91343 United States;X-APPLE-RADIUS=500;X-TITLE=16111 Plummer St:geo:-118.48417°,34.24744°
END:VEVENT
BEGIN:VEVENT
DTSTART;TZID=America/Los_Angeles:20260302T110000
DTEND;TZID=America/Los_Angeles:20260302T130000
DTSTAMP:20260423T061841
CREATED:20260206T222740Z
LAST-MODIFIED:20260206T222740Z
UID:10000366-1772449200-1772456400@mva.lacounty.gov
SUMMARY:West Lost Angeles VA Bunker Social
DESCRIPTION:📅 Mondays🕚 11:00 AM – 1:00 PM📍 West Los Angeles VA Bunker Social – Located on the Campus in B306\, north campus (next to the canteen) \nJoin us for refreshments\, conversation\, and connections. The Bunker Social is a weekly\, drop-in gathering where veterans\, family members\, and caregivers can meet peers\, get wayfinding to services\, and plug into a supportive community. \nWhat to Expect \n\nFriendly\, welcoming space to connect with other veterans\nLight-touch resource navigation and community referrals\nFamily-friendly; all eras of service welcome\nFree to attend; no RSVP required
URL:https://mva.lacounty.gov/event/west-lost-angeles-va-bunker-social/2026-03-02/
LOCATION:West Los Angeles VA Medical Center\, 11301 Wilshire Boulevard\, Los Angeles\, CA\, 90073
ATTACH;FMTTYPE=image/jpeg:https://mva.lacounty.gov/wp-content/uploads/2026/02/WLAVA-Bunker-Social.jpg
END:VEVENT
BEGIN:VEVENT
DTSTART;VALUE=DATE:20260305
DTEND;VALUE=DATE:20260306
DTSTAMP:20260423T061841
CREATED:20260302T205553Z
LAST-MODIFIED:20260413T160727Z
UID:10000628-1772668800-1772755199@mva.lacounty.gov
SUMMARY:Office Closure - March 2026 Staff Training
DESCRIPTION:To better serve our veteran community\, staff from the Los Angeles County Department of Military & Veterans Affairs (MVA) and the Veteran Peer Access Network (VPAN) will be participating in a full-day training on Thursday\, March 5th. \nDuring this time\, support remains available:📧 Email us anytime at intake@mva.lacounty.gov📝 Submit an inquiry online at mva.lacounty.gov/contact-us☎️ For urgent mental health support\, call the Veterans Crisis Line at 988 (Press 1) — available 24/7 \nWe will resume regular office hours on Friday\, March 6th. \nThank you for your understanding as we continue strengthening the services we provide to veterans and their families.
URL:https://mva.lacounty.gov/event/office-closure-staff-training-march/
CATEGORIES:Closures
ATTACH;FMTTYPE=image/jpeg:https://mva.lacounty.gov/wp-content/uploads/2026/03/2026-JAN-Staff-Training-Day-Office-Closure-Xfb.jpg
END:VEVENT
BEGIN:VEVENT
DTSTART;TZID=America/Los_Angeles:20260309T110000
DTEND;TZID=America/Los_Angeles:20260309T130000
DTSTAMP:20260423T061841
CREATED:20260206T222338Z
LAST-MODIFIED:20260206T222338Z
UID:10000089-1773054000-1773061200@mva.lacounty.gov
SUMMARY:Sepulveda VA Bunker Social
DESCRIPTION:📅 Mondays🕚 11:00 AM – 1:00 PM📍 Sepulveda VA Bunker Social – Located on the Sepulveda VA Campus near the intersection of Kinzie St and George S. Patton Jr Dr \nJoin us for coffee\, conversation\, and connections. The Bunker Social is a weekly\, drop-in gathering where veterans\, family members\, and caregivers can meet peers\, get wayfinding to services\, and plug into a supportive community. \nWhat to Expect \n\nFriendly\, welcoming space to connect with other veterans\nLight-touch resource navigation and community referrals\nFamily-friendly; all eras of service welcome\nFree to attend; no RSVP required
URL:https://mva.lacounty.gov/event/sepulveda-va-bunker-social-3/2026-03-09/
LOCATION:Sepulveda VA Medical Center\, 16111 Plummer St\, North Hills\, CA\, 91343\, United States
ATTACH;FMTTYPE=image/jpeg:https://mva.lacounty.gov/wp-content/uploads/2025/08/Bunker-Social-Flyer-scaled-e1756412468614.jpg
GEO:34.24744°;-118.48417°
X-APPLE-STRUCTURED-LOCATION;VALUE=URI;X-ADDRESS=Sepulveda VA Medical Center 16111 Plummer St North Hills CA 91343 United States;X-APPLE-RADIUS=500;X-TITLE=16111 Plummer St:geo:-118.48417°,34.24744°
END:VEVENT
BEGIN:VEVENT
DTSTART;TZID=America/Los_Angeles:20260309T110000
DTEND;TZID=America/Los_Angeles:20260309T130000
DTSTAMP:20260423T061841
CREATED:20260206T222740Z
LAST-MODIFIED:20260206T222740Z
UID:10000367-1773054000-1773061200@mva.lacounty.gov
SUMMARY:West Lost Angeles VA Bunker Social
DESCRIPTION:📅 Mondays🕚 11:00 AM – 1:00 PM📍 West Los Angeles VA Bunker Social – Located on the Campus in B306\, north campus (next to the canteen) \nJoin us for refreshments\, conversation\, and connections. The Bunker Social is a weekly\, drop-in gathering where veterans\, family members\, and caregivers can meet peers\, get wayfinding to services\, and plug into a supportive community. \nWhat to Expect \n\nFriendly\, welcoming space to connect with other veterans\nLight-touch resource navigation and community referrals\nFamily-friendly; all eras of service welcome\nFree to attend; no RSVP required
URL:https://mva.lacounty.gov/event/west-lost-angeles-va-bunker-social/2026-03-09/
LOCATION:West Los Angeles VA Medical Center\, 11301 Wilshire Boulevard\, Los Angeles\, CA\, 90073
ATTACH;FMTTYPE=image/jpeg:https://mva.lacounty.gov/wp-content/uploads/2026/02/WLAVA-Bunker-Social.jpg
END:VEVENT
BEGIN:VEVENT
DTSTART;TZID=America/Los_Angeles:20260312T100000
DTEND;TZID=America/Los_Angeles:20260312T113000
DTSTAMP:20260423T061841
CREATED:20260302T204840Z
LAST-MODIFIED:20260302T205036Z
UID:10000627-1773309600-1773315000@mva.lacounty.gov
SUMMARY:Subcommittee Meeting - Justice-Involved Veterans (JIV)
DESCRIPTION:Date & Time:\nThursday\, March 12\, 2026\n10:00 AM – 11:30 AM \nLocation:\nKenneth Hahn Hall of Administration\n1st Floor – Conference Room 140-A\n500 W. Temple Street\nLos Angeles\, CA 90012 \nAbout the JIV Subcommittee \nThe Justice-Involved Veterans (JIV) Subcommittee was established by the Los Angeles Countywide Criminal Justice Coordination Committee (CCJCC) to improve outcomes for system-impacted veterans. With strong support from the Los Angeles County Board of Supervisors and active collaboration from partner agencies\, the subcommittee focuses on targeted programming and interdepartmental coordination to better serve veterans navigating the justice system. \nWhat makes this subcommittee unique is that it is led by justice-involved veterans within the Los Angeles County Department of Military and Veterans Affairs (MVA). Their lived experience ensures that solutions are shaped by those who understand the challenges firsthand—driving coordinated policy\, diversion\, and reentry strategies that reflect dignity\, equity\, and community. \nMeeting Details \nJoin us at the upcoming JIV Subcommittee meeting to learn more about ongoing initiatives\, upcoming programs\, and opportunities for collaboration in support of justice-involved veterans. \n🔗 Click here for more information and details \nor visit:\nhttps://ccjcc.lacounty.gov/jiv-subcommittee/
URL:https://mva.lacounty.gov/event/jiv-subcommittee-march-2026/
LOCATION:Kenneth Hahn Hall of Administration\, 500 W. Temple Street\, Los Angeles\, 90012\, United States
ATTACH;FMTTYPE=image/jpeg:https://mva.lacounty.gov/wp-content/uploads/2025/08/JIV_Subcommittee_Image.jpg
END:VEVENT
BEGIN:VEVENT
DTSTART;TZID=America/Los_Angeles:20260314T120000
DTEND;TZID=America/Los_Angeles:20260314T160000
DTSTAMP:20260423T061841
CREATED:20260302T202102Z
LAST-MODIFIED:20260302T202551Z
UID:10000625-1773489600-1773504000@mva.lacounty.gov
SUMMARY:First on the Scene - Training for Emergency Trauma Incidents
DESCRIPTION:The Veteran Peer Access Network Supervisorial District 5 (VPAN SD5) invites veterans and military families to attend First on the Scene: Training for Emergency Trauma Incidents on Saturday\, March 14 at VFW USS Gudgeon Ship 8310 in Burbank. \nThis interactive\, hands-on training is designed to equip community members with practical\, life-saving skills to use in emergency situations before professional responders arrive. \nWhen an incident happens\, every second counts. Participants will learn how to assess an emergency scene\, prioritize safety\, identify potential dangers\, and provide essential interventions until trained responders take over. The course focuses on building confidence\, awareness\, and readiness in high-stress situations. \nFree lunch will be provided at 11:30 a.m.\, and the training will run from 12:00 p.m. to 4:00 p.m. \nEvent Details \nDate: Saturday\, March 14Time: 12:00 p.m. – 4:00 p.m.Lunch: 11:30 a.m.Location:VFW USS Gudgeon Ship 8310\n1006 Magnolia Blvd\nBurbank\, CA 91506\nBurbank\, CA \nParking: Street parking only \nRSVP Information \nSpace is limited to 30 participants. RSVP is required.Class\, lunch\, and refreshments are included with registration. \nVeterans and military family members of all ages are welcome. Parent discretion is advised due to training themes that include trauma\, injury\, and disaster scenarios.
URL:https://mva.lacounty.gov/event/first-on-the-scene-2/
LOCATION:VFW USS Gudgeon Ship 8310\, 1006 Magnolia Blvd\, Burbank\, 91506\, United States
CATEGORIES:VPAN Events
ATTACH;FMTTYPE=image/png:https://mva.lacounty.gov/wp-content/uploads/2026/03/Swift-Tactical-Event-1.png
END:VEVENT
BEGIN:VEVENT
DTSTART;TZID=America/Los_Angeles:20260316T110000
DTEND;TZID=America/Los_Angeles:20260316T130000
DTSTAMP:20260423T061841
CREATED:20260206T222338Z
LAST-MODIFIED:20260206T222338Z
UID:10000090-1773658800-1773666000@mva.lacounty.gov
SUMMARY:Sepulveda VA Bunker Social
DESCRIPTION:📅 Mondays🕚 11:00 AM – 1:00 PM📍 Sepulveda VA Bunker Social – Located on the Sepulveda VA Campus near the intersection of Kinzie St and George S. Patton Jr Dr \nJoin us for coffee\, conversation\, and connections. The Bunker Social is a weekly\, drop-in gathering where veterans\, family members\, and caregivers can meet peers\, get wayfinding to services\, and plug into a supportive community. \nWhat to Expect \n\nFriendly\, welcoming space to connect with other veterans\nLight-touch resource navigation and community referrals\nFamily-friendly; all eras of service welcome\nFree to attend; no RSVP required
URL:https://mva.lacounty.gov/event/sepulveda-va-bunker-social-3/2026-03-16/
LOCATION:Sepulveda VA Medical Center\, 16111 Plummer St\, North Hills\, CA\, 91343\, United States
ATTACH;FMTTYPE=image/jpeg:https://mva.lacounty.gov/wp-content/uploads/2025/08/Bunker-Social-Flyer-scaled-e1756412468614.jpg
GEO:34.24744°;-118.48417°
X-APPLE-STRUCTURED-LOCATION;VALUE=URI;X-ADDRESS=Sepulveda VA Medical Center 16111 Plummer St North Hills CA 91343 United States;X-APPLE-RADIUS=500;X-TITLE=16111 Plummer St:geo:-118.48417°,34.24744°
END:VEVENT
BEGIN:VEVENT
DTSTART;TZID=America/Los_Angeles:20260316T110000
DTEND;TZID=America/Los_Angeles:20260316T130000
DTSTAMP:20260423T061841
CREATED:20260206T222740Z
LAST-MODIFIED:20260206T222740Z
UID:10000368-1773658800-1773666000@mva.lacounty.gov
SUMMARY:West Lost Angeles VA Bunker Social
DESCRIPTION:📅 Mondays🕚 11:00 AM – 1:00 PM📍 West Los Angeles VA Bunker Social – Located on the Campus in B306\, north campus (next to the canteen) \nJoin us for refreshments\, conversation\, and connections. The Bunker Social is a weekly\, drop-in gathering where veterans\, family members\, and caregivers can meet peers\, get wayfinding to services\, and plug into a supportive community. \nWhat to Expect \n\nFriendly\, welcoming space to connect with other veterans\nLight-touch resource navigation and community referrals\nFamily-friendly; all eras of service welcome\nFree to attend; no RSVP required
URL:https://mva.lacounty.gov/event/west-lost-angeles-va-bunker-social/2026-03-16/
LOCATION:West Los Angeles VA Medical Center\, 11301 Wilshire Boulevard\, Los Angeles\, CA\, 90073
ATTACH;FMTTYPE=image/jpeg:https://mva.lacounty.gov/wp-content/uploads/2026/02/WLAVA-Bunker-Social.jpg
END:VEVENT
BEGIN:VEVENT
DTSTART;TZID=America/Los_Angeles:20260318T133000
DTEND;TZID=America/Los_Angeles:20260318T153000
DTSTAMP:20260423T061841
CREATED:20260302T202451Z
LAST-MODIFIED:20260302T202451Z
UID:10000626-1773840600-1773847800@mva.lacounty.gov
SUMMARY:Veterans Advisory Commission Meeting - March 2026
DESCRIPTION:📅 Wednesday\, March 18\, 2026 | 🕐 1:30 PM \n📍 Bob Hope Patriotic Hall – Nimitz Room\, 8th Floor \nJoin the Veterans Advisory Commission as they discuss programs\, services\, and resources supporting LA County’s veteran community. \n🔗 More details here \n🔗 Join via Teams | ☎️ Dial: 323-776-6996 (ID: 742 500 030#) \n📝 Register for Public Comment \n  \nADA Accommodations: Call 213-765-9679 (72 hrs in advance).
URL:https://mva.lacounty.gov/event/veterans-advisory-commission-meeting-march-2026/
LOCATION:Bob Hope Patriotic Hall\, 1816 South Figueroa Street\, Los Angeles\, CA\, 90015\, United States
CATEGORIES:Veterans Advisory Commission
ATTACH;FMTTYPE=image/jpeg:https://mva.lacounty.gov/wp-content/uploads/2025/08/54661499775_098237df4c_b.jpg
END:VEVENT
BEGIN:VEVENT
DTSTART;TZID=America/Los_Angeles:20260323T110000
DTEND;TZID=America/Los_Angeles:20260323T130000
DTSTAMP:20260423T061841
CREATED:20260206T222338Z
LAST-MODIFIED:20260206T222338Z
UID:10000091-1774263600-1774270800@mva.lacounty.gov
SUMMARY:Sepulveda VA Bunker Social
DESCRIPTION:📅 Mondays🕚 11:00 AM – 1:00 PM📍 Sepulveda VA Bunker Social – Located on the Sepulveda VA Campus near the intersection of Kinzie St and George S. Patton Jr Dr \nJoin us for coffee\, conversation\, and connections. The Bunker Social is a weekly\, drop-in gathering where veterans\, family members\, and caregivers can meet peers\, get wayfinding to services\, and plug into a supportive community. \nWhat to Expect \n\nFriendly\, welcoming space to connect with other veterans\nLight-touch resource navigation and community referrals\nFamily-friendly; all eras of service welcome\nFree to attend; no RSVP required
URL:https://mva.lacounty.gov/event/sepulveda-va-bunker-social-3/2026-03-23/
LOCATION:Sepulveda VA Medical Center\, 16111 Plummer St\, North Hills\, CA\, 91343\, United States
ATTACH;FMTTYPE=image/jpeg:https://mva.lacounty.gov/wp-content/uploads/2025/08/Bunker-Social-Flyer-scaled-e1756412468614.jpg
GEO:34.24744°;-118.48417°
X-APPLE-STRUCTURED-LOCATION;VALUE=URI;X-ADDRESS=Sepulveda VA Medical Center 16111 Plummer St North Hills CA 91343 United States;X-APPLE-RADIUS=500;X-TITLE=16111 Plummer St:geo:-118.48417°,34.24744°
END:VEVENT
BEGIN:VEVENT
DTSTART;TZID=America/Los_Angeles:20260323T110000
DTEND;TZID=America/Los_Angeles:20260323T130000
DTSTAMP:20260423T061841
CREATED:20260206T222740Z
LAST-MODIFIED:20260206T222740Z
UID:10000369-1774263600-1774270800@mva.lacounty.gov
SUMMARY:West Lost Angeles VA Bunker Social
DESCRIPTION:📅 Mondays🕚 11:00 AM – 1:00 PM📍 West Los Angeles VA Bunker Social – Located on the Campus in B306\, north campus (next to the canteen) \nJoin us for refreshments\, conversation\, and connections. The Bunker Social is a weekly\, drop-in gathering where veterans\, family members\, and caregivers can meet peers\, get wayfinding to services\, and plug into a supportive community. \nWhat to Expect \n\nFriendly\, welcoming space to connect with other veterans\nLight-touch resource navigation and community referrals\nFamily-friendly; all eras of service welcome\nFree to attend; no RSVP required
URL:https://mva.lacounty.gov/event/west-lost-angeles-va-bunker-social/2026-03-23/
LOCATION:West Los Angeles VA Medical Center\, 11301 Wilshire Boulevard\, Los Angeles\, CA\, 90073
ATTACH;FMTTYPE=image/jpeg:https://mva.lacounty.gov/wp-content/uploads/2026/02/WLAVA-Bunker-Social.jpg
END:VEVENT
BEGIN:VEVENT
DTSTART;VALUE=DATE:20260330
DTEND;VALUE=DATE:20260331
DTSTAMP:20260423T061841
CREATED:20260303T224542Z
LAST-MODIFIED:20260327T192223Z
UID:10000629-1774828800-1774915199@mva.lacounty.gov
SUMMARY:Office Closure – Farmworkers Day
DESCRIPTION:In observance of Farmworkers Day\, the Los Angeles County Department of Military & Veterans Affairs (MVA) and the Veteran Peer Access Network (VPAN) offices will be closed on Monday\, March 30\, 2026. \nDuring this time\, support remains available:📧 Email us anytime at intake@mva.lacounty.gov📝 Submit an inquiry online at mva.lacounty.gov/contact-us☎️ For urgent mental health support\, call the Veterans Crisis Line at 988 (Press 1) — available 24/7 \nWe will resume regular office hours on Tuesday\, March 31\, 2026.
URL:https://mva.lacounty.gov/event/farmwokersday2026/
CATEGORIES:Closures
ATTACH;FMTTYPE=image/jpeg:https://mva.lacounty.gov/wp-content/uploads/2026/03/Holiday-Closure-1.jpg
END:VEVENT
BEGIN:VEVENT
DTSTART;TZID=America/Los_Angeles:20260330T110000
DTEND;TZID=America/Los_Angeles:20260330T130000
DTSTAMP:20260423T061841
CREATED:20260206T222338Z
LAST-MODIFIED:20260206T222338Z
UID:10000092-1774868400-1774875600@mva.lacounty.gov
SUMMARY:Sepulveda VA Bunker Social
DESCRIPTION:📅 Mondays🕚 11:00 AM – 1:00 PM📍 Sepulveda VA Bunker Social – Located on the Sepulveda VA Campus near the intersection of Kinzie St and George S. Patton Jr Dr \nJoin us for coffee\, conversation\, and connections. The Bunker Social is a weekly\, drop-in gathering where veterans\, family members\, and caregivers can meet peers\, get wayfinding to services\, and plug into a supportive community. \nWhat to Expect \n\nFriendly\, welcoming space to connect with other veterans\nLight-touch resource navigation and community referrals\nFamily-friendly; all eras of service welcome\nFree to attend; no RSVP required
URL:https://mva.lacounty.gov/event/sepulveda-va-bunker-social-3/2026-03-30/
LOCATION:Sepulveda VA Medical Center\, 16111 Plummer St\, North Hills\, CA\, 91343\, United States
ATTACH;FMTTYPE=image/jpeg:https://mva.lacounty.gov/wp-content/uploads/2025/08/Bunker-Social-Flyer-scaled-e1756412468614.jpg
GEO:34.24744°;-118.48417°
X-APPLE-STRUCTURED-LOCATION;VALUE=URI;X-ADDRESS=Sepulveda VA Medical Center 16111 Plummer St North Hills CA 91343 United States;X-APPLE-RADIUS=500;X-TITLE=16111 Plummer St:geo:-118.48417°,34.24744°
END:VEVENT
BEGIN:VEVENT
DTSTART;TZID=America/Los_Angeles:20260330T110000
DTEND;TZID=America/Los_Angeles:20260330T130000
DTSTAMP:20260423T061841
CREATED:20260206T222740Z
LAST-MODIFIED:20260206T222740Z
UID:10000370-1774868400-1774875600@mva.lacounty.gov
SUMMARY:West Lost Angeles VA Bunker Social
DESCRIPTION:📅 Mondays🕚 11:00 AM – 1:00 PM📍 West Los Angeles VA Bunker Social – Located on the Campus in B306\, north campus (next to the canteen) \nJoin us for refreshments\, conversation\, and connections. The Bunker Social is a weekly\, drop-in gathering where veterans\, family members\, and caregivers can meet peers\, get wayfinding to services\, and plug into a supportive community. \nWhat to Expect \n\nFriendly\, welcoming space to connect with other veterans\nLight-touch resource navigation and community referrals\nFamily-friendly; all eras of service welcome\nFree to attend; no RSVP required
URL:https://mva.lacounty.gov/event/west-lost-angeles-va-bunker-social/2026-03-30/
LOCATION:West Los Angeles VA Medical Center\, 11301 Wilshire Boulevard\, Los Angeles\, CA\, 90073
ATTACH;FMTTYPE=image/jpeg:https://mva.lacounty.gov/wp-content/uploads/2026/02/WLAVA-Bunker-Social.jpg
END:VEVENT
BEGIN:VEVENT
DTSTART;TZID=America/Los_Angeles:20260331T090000
DTEND;TZID=America/Los_Angeles:20260331T120000
DTSTAMP:20260423T061841
CREATED:20260328T182755Z
LAST-MODIFIED:20260328T183201Z
UID:10000635-1774947600-1774958400@mva.lacounty.gov
SUMMARY:Understanding the Veteran Experience Training Program
DESCRIPTION:The Los Angeles County Department of Military and Veterans Affairs (MVA)\, in partnership with Secure Measures\, offers a free 3-hour training focused on strengthening understanding of military culture and improving engagement with veterans. \nTraining Options• 3-hour live virtual training• 3-hour in-person training* \n*In-person trainings must be booked at least 2 weeks in advance. \nWho Should AttendAgencies\, departments\, and organizations that serve veterans are strongly encouraged to participate. \nRegistrationView available dates and register:www.secure-measures.com/pages/events-calendar \nContactCameron Cook\, MVA(213) 851-4831CCook@mva.lacounty.gov
URL:https://mva.lacounty.gov/event/vet-experience-training/2026-03-31/
CATEGORIES:Housing Event
ATTACH;FMTTYPE=image/png:https://mva.lacounty.gov/wp-content/uploads/2026/03/Website-Event-Banners-1.png
END:VEVENT
END:VCALENDAR